BEGIN:VCALENDAR
METHOD:PUBLISH
VERSION:2.0
CALSCALE:GREGORIAN
PRODID:-//NONSGML WPForms//NONSGML Sugar Calendar Feeds v3.11.0//EN
X-WR-CALNAME:Council Meeting
X-WR-CALDESC:The City of Pinson
X-WR-TIMEZONE:America/Chicago
BEGIN:VTIMEZONE
TZID:America/Chicago
BEGIN:STANDARD
TZOFFSETFROM:-0500
TZOFFSETTO:-0600
DTSTART:20251102T070000
TZNAME:CST
END:STANDARD
BEGIN:DAYLIGHT
TZOFFSETFROM:-0600
TZOFFSETTO:-0500
DTSTART:20260308T080000
TZNAME:CDT
END:DAYLIGHT
END:VTIMEZONE
BEGIN:VTIMEZONE
TZID:America/Chicago
BEGIN:STANDARD
TZOFFSETFROM:-0500
TZOFFSETTO:-0600
DTSTART:20251102T070000
TZNAME:CST
END:STANDARD
BEGIN:DAYLIGHT
TZOFFSETFROM:-0600
TZOFFSETTO:-0500
DTSTART:20260308T080000
TZNAME:CDT
END:DAYLIGHT
END:VTIMEZONE
BEGIN:VEVENT
SUMMARY:Council Meeting
DESCRIPTION:The Pinson City Council will meet in regular sessions at Pin
 son City Hall at 7:00 PM. Precouncil begins at 6:15.
URL;VALUE=URI:https://pinsonal.gov/events/council-meeting-2/
UID:urn:uuid:ecf343ef-7848-4f2b-a1b9-339ccaf765e5
STATUS:CONFIRMED
ORGANIZER:
DTSTAMP:20260425T162438Z
DTSTART;TZID=America/Chicago:20260320T190000
DTEND;TZID=America/Chicago:20260320T200000
LOCATION:City Hall\n4410 Main Street\nPinson\, AL 35126
END:VEVENT
END:VCALENDAR