BEGIN:VCALENDAR
METHOD:PUBLISH
VERSION:2.0
CALSCALE:GREGORIAN
PRODID:-//NONSGML WPForms//NONSGML Sugar Calendar Feeds v3.11.0//EN
X-WR-CALNAME:City Fest
X-WR-CALDESC:The City of Pinson
X-WR-TIMEZONE:America/Chicago
BEGIN:VTIMEZONE
TZID:America/Chicago
BEGIN:STANDARD
TZOFFSETFROM:-0500
TZOFFSETTO:-0600
DTSTART:20251102T070000
TZNAME:CST
END:STANDARD
BEGIN:DAYLIGHT
TZOFFSETFROM:-0600
TZOFFSETTO:-0500
DTSTART:20260308T080000
TZNAME:CDT
END:DAYLIGHT
END:VTIMEZONE
BEGIN:VTIMEZONE
TZID:America/Chicago
BEGIN:STANDARD
TZOFFSETFROM:-0500
TZOFFSETTO:-0600
DTSTART:20251102T070000
TZNAME:CST
END:STANDARD
BEGIN:DAYLIGHT
TZOFFSETFROM:-0600
TZOFFSETTO:-0500
DTSTART:20260308T080000
TZNAME:CDT
END:DAYLIGHT
END:VTIMEZONE
BEGIN:VEVENT
SUMMARY:City Fest
DESCRIPTION:Join us for a day of fun at Bicentennial Park for City Fest.
  Fireworks will be done at dark at the Rock School Center.
URL;VALUE=URI:https://pinsonal.gov/events/city-fest/
UID:urn:uuid:8b2098c5-20d4-4a40-b3ff-0d846e88c6fa
STATUS:CONFIRMED
ORGANIZER:
DTSTAMP:20260425T144207Z
DTSTART;VALUE=DATE:20260425
END:VEVENT
END:VCALENDAR